BEGIN:VCALENDAR
PRODID:-//Det Danske Spejderkorps//NONSGML Gruppeweb//EN
VERSION:2.0
CALSCALE:GREGORIAN
X-PUBLISHED-TTL:PT1H
X-WR-CALNAME:Svend Gønges Division
METHOD:PUBLISH
BEGIN:VEVENT
UID:gruppeweb.dk:3200:event:86
DTSTAMP:20260421T090249Z
LAST-MODIFIED:20250401T173110Z
SUMMARY:Familiespejdtræf 2025
DESCRIPTION:\n
URL:https://www.sgdspejder.dk/begivenhed/familiespejdtraef-2025
DTSTART;VALUE=DATE:20250426
LOCATION:
END:VEVENT
BEGIN:VEVENT
UID:gruppeweb.dk:3200:event:84
DTSTAMP:20260421T090249Z
LAST-MODIFIED:20250325T192202Z
SUMMARY:DRM 2025
DESCRIPTION:
URL:https://www.sgdspejder.dk/begivenhed/drm-2025
DTSTART;VALUE=DATE:20250427
LOCATION:
END:VEVENT
BEGIN:VEVENT
UID:gruppeweb.dk:3200:event:97
DTSTAMP:20260421T090249Z
LAST-MODIFIED:20250401T173126Z
SUMMARY:Spejderdag 2025
DESCRIPTION:
URL:https://www.sgdspejder.dk/begivenhed/spejderdag-2025
DTSTART;VALUE=DATE:20250511
LOCATION:
END:VEVENT
BEGIN:VEVENT
UID:gruppeweb.dk:3200:event:102
DTSTAMP:20260421T090249Z
LAST-MODIFIED:20250506T061458Z
SUMMARY:SciencePirater
DESCRIPTION:Kl. 10.00-12.00.\n\nKarolinegangen 9\, 4760 Vordingborg. \n\nT
 ilmelding gruppevis (kontakt din gruppeleder). \n\n
URL:https://www.sgdspejder.dk/begivenhed/sciencepirater
DTSTART;VALUE=DATE:20250524
LOCATION:Svend Gønges Division\, 4760 Vordinborg
END:VEVENT
BEGIN:VEVENT
UID:gruppeweb.dk:3200:event:85
DTSTAMP:20260421T090249Z
LAST-MODIFIED:20250506T061508Z
SUMMARY:Pilgrimsmarch 2025
DESCRIPTION:\n
URL:https://www.sgdspejder.dk/begivenhed/pilgrimsmarch-2025
DTSTART;VALUE=DATE:20250607
LOCATION:
END:VEVENT
BEGIN:VEVENT
UID:gruppeweb.dk:3200:event:107
DTSTAMP:20260421T090249Z
LAST-MODIFIED:20250630T161915Z
SUMMARY:DL-møde
DESCRIPTION:\n
URL:https://www.sgdspejder.dk/begivenhed/dl-moede-1
DTSTART;VALUE=DATE:20250814
LOCATION:
END:VEVENT
BEGIN:VEVENT
UID:gruppeweb.dk:3200:event:96
DTSTAMP:20260421T090249Z
LAST-MODIFIED:20250128T103949Z
SUMMARY:Spejderforældredag 2025
DESCRIPTION:
URL:https://www.sgdspejder.dk/begivenhed/spejderforaeldredag-2025
DTSTART;VALUE=DATE:20250817
LOCATION:
END:VEVENT
BEGIN:VEVENT
UID:gruppeweb.dk:3200:event:108
DTSTAMP:20260421T090249Z
LAST-MODIFIED:20250630T173336Z
SUMMARY:Ledertræf 2 - 2025
DESCRIPTION:\n
URL:https://www.sgdspejder.dk/begivenhed/ledertraef-2-2025
DTSTART;VALUE=DATE:20250829
DTEND;VALUE=DATE:20250901
LOCATION:Svend Gønges Division\, 4760 Vordinborg
END:VEVENT
BEGIN:VEVENT
UID:gruppeweb.dk:3200:event:109
DTSTAMP:20260421T090249Z
LAST-MODIFIED:20250814T181913Z
SUMMARY:Arbejdsdag i Dehnshytten
DESCRIPTION:
URL:https://www.sgdspejder.dk/begivenhed/arbejdsdag-i-dehnshytten-1
DTSTART;VALUE=DATE:20250920
LOCATION:
END:VEVENT
BEGIN:VEVENT
UID:gruppeweb.dk:3200:event:106
DTSTAMP:20260421T090249Z
LAST-MODIFIED:20250630T161914Z
SUMMARY:DL-møde
DESCRIPTION:\n
URL:https://www.sgdspejder.dk/begivenhed/dl-moede-0
DTSTART;VALUE=DATE:20250925
LOCATION:Svend Gønges Division\, 4760 Vordinborg
END:VEVENT
BEGIN:VEVENT
UID:gruppeweb.dk:3200:event:82
DTSTAMP:20260421T090249Z
LAST-MODIFIED:20241031T084929Z
SUMMARY:Mikro/mini træf 2025
DESCRIPTION:\n
URL:https://www.sgdspejder.dk/begivenhed/mikromini-traef-2025
DTSTART;VALUE=DATE:20251025
DTEND;VALUE=DATE:20251027
LOCATION:Svend Gønges Division\, 4760 Vordinborg
END:VEVENT
BEGIN:VEVENT
UID:gruppeweb.dk:3200:event:105
DTSTAMP:20260421T090249Z
LAST-MODIFIED:20250630T161913Z
SUMMARY:DL-møde
DESCRIPTION:\n
URL:https://www.sgdspejder.dk/begivenhed/dl-moede
DTSTART;VALUE=DATE:20251030
LOCATION:Svend Gønges Division\, 4760 Vordinborg
END:VEVENT
BEGIN:VEVENT
UID:gruppeweb.dk:3200:event:87
DTSTAMP:20260421T090249Z
LAST-MODIFIED:20250814T180059Z
SUMMARY:Junior/trop/senior træf 2025
DESCRIPTION:\n
URL:https://www.sgdspejder.dk/begivenhed/juniortropsenior-traef-2025
DTSTART;VALUE=DATE:20251101
DTEND;VALUE=DATE:20251103
LOCATION:Svend Gønges Division\, 4760 Vordinborg
END:VEVENT
BEGIN:VEVENT
UID:gruppeweb.dk:3200:event:95
DTSTAMP:20260421T090249Z
LAST-MODIFIED:20250127T112830Z
SUMMARY:FØR-KRM 2025
DESCRIPTION:
URL:https://www.sgdspejder.dk/begivenhed/foer-krm-2025
DTSTART;VALUE=DATE:20251105
LOCATION:
END:VEVENT
BEGIN:VEVENT
UID:gruppeweb.dk:3200:event:94
DTSTAMP:20260421T090249Z
LAST-MODIFIED:20250127T112829Z
SUMMARY:KRM 2025
DESCRIPTION:\n
URL:https://www.sgdspejder.dk/begivenhed/krm-2025
DTSTART;VALUE=DATE:20251114
DTEND;VALUE=DATE:20251117
LOCATION:
END:VEVENT
BEGIN:VEVENT
UID:gruppeweb.dk:3200:event:104
DTSTAMP:20260421T090249Z
LAST-MODIFIED:20260213T064703Z
SUMMARY:DL-weekend
DESCRIPTION:\n
URL:https://www.sgdspejder.dk/begivenhed/dl-weekend
DTSTART;VALUE=DATE:20260116
DTEND;VALUE=DATE:20260119
LOCATION:Svend Gønges Division\, 4760 Vordinborg
END:VEVENT
BEGIN:VEVENT
UID:gruppeweb.dk:3200:event:93
DTSTAMP:20260421T090249Z
LAST-MODIFIED:20250630T173339Z
SUMMARY:Ledertræf 1 2026
DESCRIPTION:\n
URL:https://www.sgdspejder.dk/begivenhed/ledertraef-1-2026
DTSTART;VALUE=DATE:20260118
LOCATION:
END:VEVENT
END:VCALENDAR
